BEGIN:VCALENDAR
VERSION:2.0
PRODID:DPCALENDAR
CALSCALE:GREGORIAN
BEGIN:VTIMEZONE
TZID:Europe/Berlin
X-MICROSOFT-CDO-TZID:4
BEGIN:STANDARD
DTSTART:20251026T010000
TZOFFSETFROM:+0200
TZOFFSETTO:+0100
TZNAME:CET
END:STANDARD
BEGIN:STANDARD
DTSTART:20261025T010000
TZOFFSETFROM:+0200
TZOFFSETTO:+0100
TZNAME:CET
END:STANDARD
BEGIN:DAYLIGHT
DTSTART:20260329T010000
TZOFFSETFROM:+0100
TZOFFSETTO:+0200
TZNAME:CEST
END:DAYLIGHT
END:VTIMEZONE
X-WR-TIMEZONE:Europe/Berlin
BEGIN:VEVENT
DTSTART;TZID=Europe/Berlin:20250106T133000
DTEND;TZID=Europe/Berlin:20250106T203000
UID:072FBBA9-7C10-479A-AFA0-9B04DCB3422B
SUMMARY:Krippenspiel 6.1.
CREATED:20250105T164253Z
DTSTAMP:20250105T164253Z
URL:https://paulus.mt516.de/dienste/krippenspiel-6-1
LAST-MODIFIED:20250105T164317Z
SEQUENCE:24
LOCATION:Pauluskirchplatz 1\, 08060 Zwickau\, Sachsen\, Deutschland
GEO:50.71714235;12.45450176
X-LOCATION-DISPLAYNAME:Ev.-Luth. Pauluskirche
X-ACCESS:1
X-HITS:5
X-COLOR:3366cc
X-SHOW-END-TIME:1
END:VEVENT
END:VCALENDAR